BEGIN:VCALENDAR
VERSION:2.0
PRODID:-//Reiterverein Nortrup e.V. - ECPv6.15.20//NONSGML v1.0//EN
CALSCALE:GREGORIAN
METHOD:PUBLISH
X-ORIGINAL-URL:https://www.rufnortrup.de
X-WR-CALDESC:Veranstaltungen für Reiterverein Nortrup e.V.
REFRESH-INTERVAL;VALUE=DURATION:PT1H
X-Robots-Tag:noindex
X-PUBLISHED-TTL:PT1H
BEGIN:VTIMEZONE
TZID:UTC
BEGIN:STANDARD
TZOFFSETFROM:+0000
TZOFFSETTO:+0000
TZNAME:UTC
DTSTART:20240101T000000
END:STANDARD
END:VTIMEZONE
BEGIN:VEVENT
DTSTART;VALUE=DATE:20251025
DTEND;VALUE=DATE:20251027
DTSTAMP:20260421T101435
CREATED:20250331T130643Z
LAST-MODIFIED:20250331T130643Z
UID:1316-1761350400-1761523199@www.rufnortrup.de
SUMMARY:Hallengeländetraining bei Julien Despontin
DESCRIPTION:Das Hallengeländetraining eignet sich für Anfänger und Fortgeschrittene. Die Gruppen werden je nach Leistungsstand zusammengestellt. geritten wird in 4er-Gruppen.
URL:https://www.rufnortrup.de/event/hallengelaendetraining-bei-julien-despontin-2/
LOCATION:Reiterverein Nortrup e.V.\, Hardelager Str. 1a\, Nortrup\, 49638
ORGANIZER;CN="Reiterverein Nortrup e.V.":MAILTO:silke.peters1302@web.de
END:VEVENT
END:VCALENDAR