BEGIN:VCALENDAR
VERSION:2.0
PRODID:-//Reiterverein Nortrup e.V. - ECPv6.15.20//NONSGML v1.0//EN
CALSCALE:GREGORIAN
METHOD:PUBLISH
X-WR-CALNAME:Reiterverein Nortrup e.V.
X-ORIGINAL-URL:https://www.rufnortrup.de
X-WR-CALDESC:Veranstaltungen für Reiterverein Nortrup e.V.
REFRESH-INTERVAL;VALUE=DURATION:PT1H
X-Robots-Tag:noindex
X-PUBLISHED-TTL:PT1H
BEGIN:VTIMEZONE
TZID:UTC
BEGIN:STANDARD
TZOFFSETFROM:+0000
TZOFFSETTO:+0000
TZNAME:UTC
DTSTART:20230101T000000
END:STANDARD
END:VTIMEZONE
BEGIN:VEVENT
DTSTART;TZID=UTC:20240602T100000
DTEND;TZID=UTC:20240602T180000
DTSTAMP:20260422T075640
CREATED:20240303T145024Z
LAST-MODIFIED:20240531T144022Z
UID:1210-1717322400-1717351200@www.rufnortrup.de
SUMMARY:Nortruper Gartentour
DESCRIPTION:Am 02. Juni öffnen einige Nortruper Gärten anlässlich des 20-jährigen Jubiläums der Gartentour wieder ihre Pforten. Der Startpunkt\, Informationsstand und Parkplatz ist bei der Reitsportanlage in der Hardelager Str. 1a. \nDer Reitverein bietet neben Kaffee\, Schnittchen und Kuchen auch Bratwurst vom Grill und Eis. Außerdem gibt es Aussteller\, eine Hüpfburg und einen Hobby-Horsing-Parcours für die Kinder.
URL:https://www.rufnortrup.de/event/nortruper-gartentour-2/
LOCATION:Reiterverein Nortrup e.V.\, Hardelager Str. 1a\, Nortrup\, 49638
END:VEVENT
END:VCALENDAR