BEGIN:VCALENDAR
VERSION:2.0
PRODID:-//Reiterverein Nortrup e.V. - ECPv6.15.20//NONSGML v1.0//EN
CALSCALE:GREGORIAN
METHOD:PUBLISH
X-WR-CALNAME:Reiterverein Nortrup e.V.
X-ORIGINAL-URL:https://www.rufnortrup.de
X-WR-CALDESC:Veranstaltungen für Reiterverein Nortrup e.V.
REFRESH-INTERVAL;VALUE=DURATION:PT1H
X-Robots-Tag:noindex
X-PUBLISHED-TTL:PT1H
BEGIN:VTIMEZONE
TZID:UTC
BEGIN:STANDARD
TZOFFSETFROM:+0000
TZOFFSETTO:+0000
TZNAME:UTC
DTSTART:20220101T000000
END:STANDARD
END:VTIMEZONE
BEGIN:VEVENT
DTSTART;TZID=UTC:20230923T100000
DTEND;TZID=UTC:20230923T140000
DTSTAMP:20260422T215447
CREATED:20230830T135215Z
LAST-MODIFIED:20230830T135215Z
UID:1105-1695463200-1695477600@www.rufnortrup.de
SUMMARY:Arbeitseinsatz zur Vorbereitung der Kreismeisterschaft
DESCRIPTION:
URL:https://www.rufnortrup.de/event/arbeitseinsatz-zur-vorbereitung-der-kreismeisterschaft/
LOCATION:Reiterverein Nortrup e.V.\, Hardelager Str. 1a\, Nortrup\, 49638
END:VEVENT
BEGIN:VEVENT
DTSTART;VALUE=DATE:20230930
DTEND;VALUE=DATE:20231002
DTSTAMP:20260422T215447
CREATED:20230717T122551Z
LAST-MODIFIED:20230830T130403Z
UID:1087-1696032000-1696204799@www.rufnortrup.de
SUMMARY:Kreismeisterschaften Dressur und Springen
DESCRIPTION:Am 30. September und 1. Oktober finden die Kreismeisterschaften des Kreisreiterverbandes Bersenbrück im Reitsportzentrum Nortrup statt. \nWeitere Informationen findet ihr unter „Aktuelles“ und „Turniere“
URL:https://www.rufnortrup.de/event/kreismeisterschaften-dressur-und-springen/
LOCATION:Reiterverein Nortrup e.V.\, Hardelager Str. 1a\, Nortrup\, 49638
ORGANIZER;CN="Reiterverein Nortrup e.V.":MAILTO:silke.peters1302@web.de
END:VEVENT
END:VCALENDAR