BEGIN:VCALENDAR
VERSION:2.0
PRODID:-//Reiterverein Nortrup e.V. - ECPv6.15.20//NONSGML v1.0//EN
CALSCALE:GREGORIAN
METHOD:PUBLISH
X-ORIGINAL-URL:https://www.rufnortrup.de
X-WR-CALDESC:Veranstaltungen für Reiterverein Nortrup e.V.
REFRESH-INTERVAL;VALUE=DURATION:PT1H
X-Robots-Tag:noindex
X-PUBLISHED-TTL:PT1H
BEGIN:VTIMEZONE
TZID:UTC
BEGIN:STANDARD
TZOFFSETFROM:+0000
TZOFFSETTO:+0000
TZNAME:UTC
DTSTART:20220101T000000
END:STANDARD
END:VTIMEZONE
BEGIN:VEVENT
DTSTART;TZID=UTC:20230211T080000
DTEND;TZID=UTC:20230212T190000
DTSTAMP:20260423T071452
CREATED:20230101T170950Z
LAST-MODIFIED:20230101T170950Z
UID:968-1676102400-1676228400@www.rufnortrup.de
SUMMARY:Hallengeländetraining mit Julien Despontin
DESCRIPTION:Geländesprünge geeignet für Anfänger und Fortgeschrittene / auch freies Training möglich (20€)
URL:https://www.rufnortrup.de/event/hallengelaendetraining-mit-julien-despontin/
LOCATION:Reiterverein Nortrup e.V.\, Hardelager Str. 1a\, Nortrup\, 49638
ORGANIZER;CN="Reiterverein Nortrup e.V.":MAILTO:silke.peters1302@web.de
END:VEVENT
END:VCALENDAR