BEGIN:VCALENDAR
VERSION:2.0
PRODID:-//Reiterverein Nortrup e.V. - ECPv6.15.20//NONSGML v1.0//EN
CALSCALE:GREGORIAN
METHOD:PUBLISH
X-ORIGINAL-URL:https://www.rufnortrup.de
X-WR-CALDESC:Veranstaltungen für Reiterverein Nortrup e.V.
REFRESH-INTERVAL;VALUE=DURATION:PT1H
X-Robots-Tag:noindex
X-PUBLISHED-TTL:PT1H
BEGIN:VTIMEZONE
TZID:UTC
BEGIN:STANDARD
TZOFFSETFROM:+0000
TZOFFSETTO:+0000
TZNAME:UTC
DTSTART:20210101T000000
END:STANDARD
END:VTIMEZONE
BEGIN:VEVENT
DTSTART;VALUE=DATE:20221127
DTEND;VALUE=DATE:20221128
DTSTAMP:20260423T120318
CREATED:20220807T131038Z
LAST-MODIFIED:20221121T102204Z
UID:911-1669507200-1669593599@www.rufnortrup.de
SUMMARY:Nortruper Weihnachtsmarkt
DESCRIPTION:Endlich wieder Glühwein trinken und Adventsstimmung genießen. Am 1. Advent findet in der Reithalle der Nortruper Weihnachtsmarkt statt. Neben vielen Ständen mit Adventsdekoration und Leckereien\, wird auch wieder ein Frühstücksbuffet angeboten. Nähere Informationen folgen in Kürze. \nAussteller können unter der 0162-4625942 einen Stand reservieren.
URL:https://www.rufnortrup.de/event/nortruper-weihnachtsmarkt/
LOCATION:Reiterverein Nortrup e.V.\, Hardelager Str. 1a\, Nortrup\, 49638
ATTACH;FMTTYPE=image/jpeg:https://www.rufnortrup.de/wp-content/uploads/2021/10/20171203_210045541_iOS-e1635326894253.jpg
ORGANIZER;CN="Reiterverein Nortrup e.V.":MAILTO:silke.peters1302@web.de
END:VEVENT
END:VCALENDAR