BEGIN:VCALENDAR
VERSION:2.0
PRODID:-//Reiterverein Nortrup e.V. - ECPv6.15.20//NONSGML v1.0//EN
CALSCALE:GREGORIAN
METHOD:PUBLISH
X-WR-CALNAME:Reiterverein Nortrup e.V.
X-ORIGINAL-URL:https://www.rufnortrup.de
X-WR-CALDESC:Veranstaltungen für Reiterverein Nortrup e.V.
REFRESH-INTERVAL;VALUE=DURATION:PT1H
X-Robots-Tag:noindex
X-PUBLISHED-TTL:PT1H
BEGIN:VTIMEZONE
TZID:UTC
BEGIN:STANDARD
TZOFFSETFROM:+0000
TZOFFSETTO:+0000
TZNAME:UTC
DTSTART:20210101T000000
END:STANDARD
END:VTIMEZONE
BEGIN:VEVENT
DTSTART;TZID=UTC:20220816T140000
DTEND;TZID=UTC:20220816T170000
DTSTAMP:20260423T162044
CREATED:20220807T124752Z
LAST-MODIFIED:20220807T124752Z
UID:904-1660658400-1660669200@www.rufnortrup.de
SUMMARY:Ferienspaß rund ums Pferd
DESCRIPTION:Euch erwartet ein bunter Nachmittag mit Spielen und Aktionen rund ums Pferd. Natürlich dürft ihr auch auf einem Pony reiten und vielleicht sogar eine kleine Kutschfahrt machen. Für eine Stärkung zwischendurch ist gesorgt. Kosten: 5 € pro Kind \nKinder unter 7 Jahren nur in Begleitung eines Erwachsenen.
URL:https://www.rufnortrup.de/event/ferienspass-rund-ums-pferd/
LOCATION:Reiterverein Nortrup e.V.\, Hardelager Str. 1a\, Nortrup\, 49638
ORGANIZER;CN="Reiterverein Nortrup e.V.":MAILTO:silke.peters1302@web.de
END:VEVENT
END:VCALENDAR