BEGIN:VCALENDAR
VERSION:2.0
PRODID:-//Reiterverein Nortrup e.V. - ECPv6.15.20//NONSGML v1.0//EN
CALSCALE:GREGORIAN
METHOD:PUBLISH
X-WR-CALNAME:Reiterverein Nortrup e.V.
X-ORIGINAL-URL:https://www.rufnortrup.de
X-WR-CALDESC:Veranstaltungen für Reiterverein Nortrup e.V.
REFRESH-INTERVAL;VALUE=DURATION:PT1H
X-Robots-Tag:noindex
X-PUBLISHED-TTL:PT1H
BEGIN:VTIMEZONE
TZID:UTC
BEGIN:STANDARD
TZOFFSETFROM:+0000
TZOFFSETTO:+0000
TZNAME:UTC
DTSTART:20230101T000000
END:STANDARD
END:VTIMEZONE
BEGIN:VEVENT
DTSTART;TZID=UTC:20241201T110000
DTEND;TZID=UTC:20241201T180000
DTSTAMP:20260422T012756
CREATED:20240303T145625Z
LAST-MODIFIED:20241023T085818Z
UID:1216-1733050800-1733076000@www.rufnortrup.de
SUMMARY:Nortruper Weihnachtsmarkt
DESCRIPTION:Am 1. Advent ab 11 Uhr findet der Nortruper Weihnachtsmarkt in unserer Reitsportanlage statt. Bereits ab 9:30 Uhr besteht die Möglichkeit in unserem Reiterstübchen zu frühstücken. Wer am Frühstücksbuffet (17\,50€/Person) teilnehmen möchte\, wird gebeten sich anzumelden. Gerne per WhatsApp: 0162-4725942. Die Plätze sind begrenzt. Weihnachtsmarktflyer_2024
URL:https://www.rufnortrup.de/event/nortruper-weihnachtsmarkt-3/
LOCATION:Reiterverein Nortrup e.V.\, Hardelager Str. 1a\, Nortrup\, 49638
ORGANIZER;CN="Reiterverein Nortrup e.V.":MAILTO:silke.peters1302@web.de
END:VEVENT
END:VCALENDAR