BEGIN:VCALENDAR
VERSION:2.0
PRODID:-//Reiterverein Nortrup e.V. - ECPv6.15.20//NONSGML v1.0//EN
CALSCALE:GREGORIAN
METHOD:PUBLISH
X-WR-CALNAME:Reiterverein Nortrup e.V.
X-ORIGINAL-URL:https://www.rufnortrup.de
X-WR-CALDESC:Veranstaltungen für Reiterverein Nortrup e.V.
REFRESH-INTERVAL;VALUE=DURATION:PT1H
X-Robots-Tag:noindex
X-PUBLISHED-TTL:PT1H
BEGIN:VTIMEZONE
TZID:UTC
BEGIN:STANDARD
TZOFFSETFROM:+0000
TZOFFSETTO:+0000
TZNAME:UTC
DTSTART:20220101T000000
END:STANDARD
END:VTIMEZONE
BEGIN:VEVENT
DTSTART;TZID=UTC:20231202T090000
DTEND;TZID=UTC:20231202T170000
DTSTAMP:20260422T171419
CREATED:20230316T092619Z
LAST-MODIFIED:20230316T092619Z
UID:1017-1701507600-1701536400@www.rufnortrup.de
SUMMARY:Arbeitseinsatz zur Vorbereitung des Weihnachtsmarktes
DESCRIPTION:
URL:https://www.rufnortrup.de/event/arbeitseinsatz-zur-vorbereitung-des-weihnachtsmarktes/
END:VEVENT
END:VCALENDAR