BEGIN:VCALENDAR
VERSION:2.0
PRODID:-//Reiterverein Nortrup e.V. - ECPv6.15.20//NONSGML v1.0//EN
CALSCALE:GREGORIAN
METHOD:PUBLISH
X-ORIGINAL-URL:https://www.rufnortrup.de
X-WR-CALDESC:Veranstaltungen für Reiterverein Nortrup e.V.
REFRESH-INTERVAL;VALUE=DURATION:PT1H
X-Robots-Tag:noindex
X-PUBLISHED-TTL:PT1H
BEGIN:VTIMEZONE
TZID:UTC
BEGIN:STANDARD
TZOFFSETFROM:+0000
TZOFFSETTO:+0000
TZNAME:UTC
DTSTART:20220101T000000
END:STANDARD
END:VTIMEZONE
BEGIN:VEVENT
DTSTART;TZID=UTC:20230513T090000
DTEND;TZID=UTC:20230513T130000
DTSTAMP:20260423T040647
CREATED:20230316T092449Z
LAST-MODIFIED:20230316T092715Z
UID:1013-1683968400-1683982800@www.rufnortrup.de
SUMMARY:Arbeitseinsatz zur Turniervorbereitung
DESCRIPTION:
URL:https://www.rufnortrup.de/event/arbeitseinsatz-zur-turniervorbereitung/
LOCATION:Reiterverein Nortrup e.V.\, Hardelager Str. 1a\, Nortrup\, 49638
END:VEVENT
END:VCALENDAR