BEGIN:VCALENDAR
VERSION:2.0
PRODID:-//Reiterverein Nortrup e.V. - ECPv6.15.20//NONSGML v1.0//EN
CALSCALE:GREGORIAN
METHOD:PUBLISH
X-ORIGINAL-URL:https://www.rufnortrup.de
X-WR-CALDESC:Veranstaltungen für Reiterverein Nortrup e.V.
REFRESH-INTERVAL;VALUE=DURATION:PT1H
X-Robots-Tag:noindex
X-PUBLISHED-TTL:PT1H
BEGIN:VTIMEZONE
TZID:UTC
BEGIN:STANDARD
TZOFFSETFROM:+0000
TZOFFSETTO:+0000
TZNAME:UTC
DTSTART:20210101T000000
END:STANDARD
END:VTIMEZONE
BEGIN:VEVENT
DTSTART;VALUE=DATE:20220410
DTEND;VALUE=DATE:20220411
DTSTAMP:20260423T231201
CREATED:20211125T163838Z
LAST-MODIFIED:20220402T150254Z
UID:796-1649548800-1649635199@www.rufnortrup.de
SUMMARY:Fahrertag (Hallenübungstag)
DESCRIPTION:Fahreranmeldung \nÜbungstag für alle Fahrer – Kegelfahren in der Reithalle zum allgemeinen Training und zur Vorbereitung auf die Turniersaison
URL:https://www.rufnortrup.de/event/fahrertag-hallenuebungstag/
LOCATION:Reiterverein Nortrup e.V.\, Hardelager Str. 1a\, Nortrup\, 49638
ORGANIZER;CN="Reiterverein Nortrup e.V.":MAILTO:silke.peters1302@web.de
END:VEVENT
END:VCALENDAR