BEGIN:VCALENDAR
VERSION:2.0
PRODID:-//Reiterverein Nortrup e.V. - ECPv6.15.20//NONSGML v1.0//EN
CALSCALE:GREGORIAN
METHOD:PUBLISH
X-WR-CALNAME:Reiterverein Nortrup e.V.
X-ORIGINAL-URL:https://www.rufnortrup.de
X-WR-CALDESC:Veranstaltungen für Reiterverein Nortrup e.V.
REFRESH-INTERVAL;VALUE=DURATION:PT1H
X-Robots-Tag:noindex
X-PUBLISHED-TTL:PT1H
BEGIN:VTIMEZONE
TZID:UTC
BEGIN:STANDARD
TZOFFSETFROM:+0000
TZOFFSETTO:+0000
TZNAME:UTC
DTSTART:20200101T000000
END:STANDARD
END:VTIMEZONE
BEGIN:VEVENT
DTSTART;VALUE=DATE:20210910
DTEND;VALUE=DATE:20210913
DTSTAMP:20260424T131752
CREATED:20210728T065946Z
LAST-MODIFIED:20210728T065946Z
UID:539-1631232000-1631491199@www.rufnortrup.de
SUMMARY:Nortruper Herbstturnier (Jungpferde- und Jugendprüfungen\, Dressur- und Springprüfungen bis Kl. L)
DESCRIPTION:
URL:https://www.rufnortrup.de/event/nortruper-herbstturnier-jungpferde-und-jugendpruefungen-dressur-und-springpruefungen-bis-kl-l/
END:VEVENT
END:VCALENDAR